BEGIN:VCALENDAR
VERSION:2.0
PRODID:-//Gander Golf Club - Gander, NL - ECPv6.15.20//NONSGML v1.0//EN
CALSCALE:GREGORIAN
METHOD:PUBLISH
X-ORIGINAL-URL:https://gandergolfclub.net
X-WR-CALDESC:Events for Gander Golf Club - Gander, NL
REFRESH-INTERVAL;VALUE=DURATION:PT1H
X-Robots-Tag:noindex
X-PUBLISHED-TTL:PT1H
BEGIN:VTIMEZONE
TZID:UTC
BEGIN:STANDARD
TZOFFSETFROM:+0000
TZOFFSETTO:+0000
TZNAME:UTC
DTSTART:20250101T000000
END:STANDARD
END:VTIMEZONE
BEGIN:VEVENT
DTSTART;TZID=UTC:20260603T000000
DTEND;TZID=UTC:20260603T235959
DTSTAMP:20260420T145832
CREATED:20251023T130024Z
LAST-MODIFIED:20251023T130028Z
UID:10000051-1780444800-1780531199@gandergolfclub.net
SUMMARY:Men's Night Begins
DESCRIPTION:
URL:https://gandergolfclub.net/event/mens-night-begins-2/
END:VEVENT
END:VCALENDAR